BEGIN:VCALENDAR
VERSION:2.0
PRODID:spatie/icalendar-generator
DESCRIPTION:Evenementen van 
X-WR-CALDESC:Evenementen van 
REFRESH-INTERVAL;VALUE=DURATION:PT1440M
X-PUBLISHED-TTL:PT1440M
BEGIN:VTIMEZONE
TZID:Europe/Brussels
BEGIN:STANDARD
DTSTART:20251026T030000Z
TZOFFSETFROM:+0200
TZOFFSETTO:+0100
END:STANDARD
BEGIN:DAYLIGHT
DTSTART:20260329T020000Z
TZOFFSETFROM:+0100
TZOFFSETTO:+0200
END:DAYLIGHT
BEGIN:STANDARD
DTSTART:20261025T030000Z
TZOFFSETFROM:+0200
TZOFFSETTO:+0100
END:STANDARD
END:VTIMEZONE
BEGIN:VTIMEZONE
TZID:UTC
BEGIN:STANDARD
DTSTART:20250724T091827Z
TZOFFSETFROM:+0000
TZOFFSETTO:+0000
END:STANDARD
END:VTIMEZONE
BEGIN:VEVENT
UID:40-34
DTSTAMP:20260420T091827Z
SUMMARY:Raad van Bestuur
LOCATION:Het Perron - Lokaal 3
ORGANIZER;CN=webmaster:MAILTO:ivan.vanherpe@telenet.be
DTSTART;TZID=Europe/Brussels:20260430T162900
DTEND;TZID=Europe/Brussels:20260430T183000
X-ALT-DESC;FMTTYPE=TEXT/HTML:<p>Raad van Bestuur</p>\n
CATEGORIES:General
URL;VALUE=URI:https://seniorenraad.be/mc-events/raad-van-bestuur-2/?mc_id=4
 0
END:VEVENT
END:VCALENDAR